BEGIN:VCALENDAR
VERSION:2.0
PRODID:-//Tennis Spora - ECPv4.2.6//NONSGML v1.0//EN
CALSCALE:GREGORIAN
METHOD:PUBLISH
X-WR-CALNAME:Tennis Spora
X-ORIGINAL-URL:https://www.tennisspora.lu
X-WR-CALDESC:Events for Tennis Spora
BEGIN:VEVENT
DTSTART;TZID=UTC+0:20150606T080000
DTEND;TZID=UTC+0:20150613T170000
DTSTAMP:20210722T093158
CREATED:20150315T125040
LAST-MODIFIED:20150315T125040
UID:3056-1433577600-1434214800@www.tennisspora.lu
SUMMARY:BNP Tournoi Pré-Qualifications pour jeunes
DESCRIPTION:
URL:https://www.tennisspora.lu/event/bnp-tournoi-pre-qualifications-pour-jeunes/
LOCATION:Luxembourg\, Luxembourg\, Luxembourg
CATEGORIES:Actualités,Agenda,Evénements,Tournois
ATTACH;FMTTYPE=image/png:https://www.tennisspora.lu/wp-content/uploads/2015/03/logo-BNP-Paribas-Cup-Tour-eiffel-2015-le-Bon.png
END:VEVENT
END:VCALENDAR