BEGIN:VCALENDAR
VERSION:2.0
PRODID:-//Tennis Spora - ECPv4.2.6//NONSGML v1.0//EN
CALSCALE:GREGORIAN
METHOD:PUBLISH
X-WR-CALNAME:Tennis Spora
X-ORIGINAL-URL:https://www.tennisspora.lu
X-WR-CALDESC:Events for Tennis Spora
BEGIN:VEVENT
DTSTART;TZID=UTC+0:20150316T120000
DTEND;TZID=UTC+0:20150321T200000
DTSTAMP:20210722T093103
CREATED:20150313T144609
LAST-MODIFIED:20150313T150017
UID:3020-1426507200-1426968000@www.tennisspora.lu
SUMMARY:Ecole de Tennis 2014/2015
DESCRIPTION:
URL:https://www.tennisspora.lu/event/ecole-de-tennis-20142015/
LOCATION:Luxembourg\, Luxembourg\, Luxembourg
CATEGORIES:Actualités,Agenda,Evénements
END:VEVENT
END:VCALENDAR