BEGIN:VCALENDAR
VERSION:2.0
PRODID:-//Tennis Spora - ECPv4.2.6//NONSGML v1.0//EN
CALSCALE:GREGORIAN
METHOD:PUBLISH
X-WR-CALNAME:Tennis Spora
X-ORIGINAL-URL:https://www.tennisspora.lu
X-WR-CALDESC:Events for Tennis Spora
BEGIN:VEVENT
DTSTART;TZID=UTC+0:20150323T120000
DTEND;TZID=UTC+0:20150328T190000
DTSTAMP:20210722T093122
CREATED:20150308T190541
LAST-MODIFIED:20150313T145736
UID:2832-1427112000-1427569200@www.tennisspora.lu
SUMMARY:Ecole de Tennis
DESCRIPTION:
URL:https://www.tennisspora.lu/event/ecole-de-tennis/
LOCATION:Luxembourg\, Luxembourg\, Luxembourg
CATEGORIES:Actualités,Agenda,Evénements
ATTACH;FMTTYPE=image/jpeg:https://www.tennisspora.lu/wp-content/uploads/2015/02/Trainers_2015_1.jpg
END:VEVENT
END:VCALENDAR