BEGIN:VCALENDAR
VERSION:2.0
PRODID:-//Tennis Spora - ECPv4.2.6//NONSGML v1.0//EN
CALSCALE:GREGORIAN
METHOD:PUBLISH
X-WR-CALNAME:Tennis Spora
X-ORIGINAL-URL:https://www.tennisspora.lu
X-WR-CALDESC:Events for Tennis Spora
BEGIN:VEVENT
DTSTART;TZID=UTC+0:20150406T080000
DTEND;TZID=UTC+0:20150406T170000
DTSTAMP:20210722T093128
CREATED:20150308T191815
LAST-MODIFIED:20150322T190716
UID:2834-1428307200-1428339600@www.tennisspora.lu
SUMMARY:Fermé - Lundi de Pâques
DESCRIPTION:
URL:https://www.tennisspora.lu/event/ferme-lundi-de-paques/
LOCATION:Luxembourg\, Luxembourg\, Luxembourg
CATEGORIES:Actualités,Agenda,Evénements
ATTACH;FMTTYPE=image/gif:https://www.tennisspora.lu/wp-content/uploads/2015/03/a896fe29.gif
END:VEVENT
END:VCALENDAR